BEGIN:VCALENDAR
VERSION:2.0
PRODID:SchoolNow
CALSCALE:GREGORIAN
BEGIN:VEVENT
UID:0c1cc7a0-58ed-11eb-abe1-0aaf8a90b9ed
DTSTAMP:20210117T175429Z
SUMMARY:Boot Camp
LOCATION:Basketball Court
URL;VALUE=URI:https://www.wildernesslakecdd.org/calendar/2526613/boot-camp
DTSTART:20210129T140000Z
DTEND:20210129T150000Z
END:VEVENT
END:VCALENDAR
