BEGIN:VCALENDAR
VERSION:2.0
PRODID:SchoolNow
CALSCALE:GREGORIAN
BEGIN:VEVENT
UID:f075dcf8-58ec-11eb-8559-0aaf8a90b9ed
DTSTAMP:20210117T175343Z
SUMMARY:Boot Camp
LOCATION:Basketball Court
URL;VALUE=URI:https://www.wildernesslakecdd.org/calendar/2526612/boot-camp
DTSTART:20210127T140000Z
DTEND:20210127T150000Z
END:VEVENT
END:VCALENDAR
