BEGIN:VCALENDAR
VERSION:2.0
PRODID:SchoolNow
CALSCALE:GREGORIAN
BEGIN:VEVENT
UID:dc12fd4a-58ec-11eb-8dc3-0aaf8a90b9ed
DTSTAMP:20210117T175309Z
SUMMARY:Boot Camp
LOCATION:Basketball Court
URL;VALUE=URI:https://www.wildernesslakecdd.org/calendar/2526611/boot-camp
DTSTART:20210125T140000Z
DTEND:20210125T150000Z
END:VEVENT
END:VCALENDAR
