BEGIN:VCALENDAR
VERSION:2.0
PRODID:SchoolNow
CALSCALE:GREGORIAN
BEGIN:VEVENT
UID:b4f20490-58ec-11eb-91c7-0aaf8a90b9ed
DTSTAMP:20210117T175203Z
SUMMARY:Boot Camp
LOCATION:Basketball Court
URL;VALUE=URI:https://www.wildernesslakecdd.org/calendar/2526610/boot-camp
DTSTART:20210122T140000Z
DTEND:20210122T150000Z
END:VEVENT
END:VCALENDAR
