BEGIN:VCALENDAR
VERSION:2.0
PRODID:SchoolNow
CALSCALE:GREGORIAN
BEGIN:VEVENT
UID:8681afb6-58ec-11eb-bd08-0aaf8a90b9ed
DTSTAMP:20210117T175045Z
SUMMARY:Boot Camp
LOCATION:Basketball Court
URL;VALUE=URI:https://www.wildernesslakecdd.org/calendar/2526609/boot-camp
DTSTART:20210120T140000Z
DTEND:20210120T150000Z
END:VEVENT
END:VCALENDAR
