BEGIN:VCALENDAR
VERSION:2.0
PRODID:SchoolNow
CALSCALE:GREGORIAN
BEGIN:VEVENT
UID:6971e148-58ec-11eb-b86d-0aaf8a90b9ed
DTSTAMP:20210117T174956Z
SUMMARY:Boot Camp
LOCATION:Basketball Court
URL;VALUE=URI:https://www.wildernesslakecdd.org/calendar/2526608/boot-camp
DTSTART:20210118T140000Z
DTEND:20210118T150000Z
END:VEVENT
END:VCALENDAR
