BEGIN:VCALENDAR
VERSION:2.0
PRODID:SchoolNow
CALSCALE:GREGORIAN
BEGIN:VEVENT
UID:b3f351e4-58eb-11eb-a878-0254b21b892b
DTSTAMP:20210117T174452Z
SUMMARY:Walking\, Toning\, and Strengthening Class
LOCATION:Activities Center
URL;VALUE=URI:https://www.wildernesslakecdd.org/calendar/2526606/walking-to
 ning-and-strengthening-class
DTSTART:20210127T143000Z
DTEND:20210127T154500Z
END:VEVENT
END:VCALENDAR
