BEGIN:VCALENDAR
VERSION:2.0
PRODID:SchoolNow
CALSCALE:GREGORIAN
BEGIN:VEVENT
UID:93ec077e-58eb-11eb-89c7-0254b21b892b
DTSTAMP:20210117T174358Z
SUMMARY:Walking\, Toning\, and Strengthening Class
LOCATION:Activities Center
URL;VALUE=URI:https://www.wildernesslakecdd.org/calendar/2526605/walking-to
 ning-and-strengthening-class
DTSTART:20210125T143000Z
DTEND:20210125T154500Z
END:VEVENT
END:VCALENDAR
