BEGIN:VCALENDAR
VERSION:2.0
PRODID:SchoolNow
CALSCALE:GREGORIAN
BEGIN:VEVENT
UID:1ab1a58a-58eb-11eb-a155-0254b21b892b
DTSTAMP:20210117T174035Z
SUMMARY:Walking\, Toning\, and Strengthening Class
LOCATION:Activities Center
URL;VALUE=URI:https://www.wildernesslakecdd.org/calendar/2526602/walking-to
 ning-and-strengthening-class
DTSTART:20210118T143000Z
DTEND:20210118T154500Z
END:VEVENT
END:VCALENDAR
