BEGIN:VCALENDAR
VERSION:2.0
PRODID:SchoolNow
CALSCALE:GREGORIAN
BEGIN:VEVENT
UID:ab488e90-4b87-11eb-ad7c-0e04ae18a5a5
DTSTAMP:20201231T164603Z
SUMMARY:Lodge Holiday Hours - Closed
URL;VALUE=URI:https://www.wildernesslakecdd.org/calendar/2517681/lodge-holi
 day-hours-closed
DTSTART;VALUE=DATE:20210101
DTEND;VALUE=DATE:20210102
END:VEVENT
END:VCALENDAR
