BEGIN:VCALENDAR
VERSION:2.0
PRODID:SchoolNow
CALSCALE:GREGORIAN
BEGIN:VEVENT
UID:55eabb12-4b82-11eb-8555-0a7ab6600999
DTSTAMP:20201231T164759Z
SUMMARY:Lodge Holiday Hours - Noon - 8pm
URL;VALUE=URI:https://www.wildernesslakecdd.org/calendar/2517677/lodge-holi
 day-hours
DTSTART:20210102T170000Z
DTEND:20210103T010000Z
END:VEVENT
END:VCALENDAR
