BEGIN:VCALENDAR
VERSION:2.0
PRODID:SchoolNow
CALSCALE:GREGORIAN
BEGIN:VEVENT
UID:d64a5368-3e75-11eb-aa43-0a5438e4f5b7
DTSTAMP:20201231T164853Z
SUMMARY:New Year's Ice Cream Social
LOCATION:Nature Center Classroom
URL;VALUE=URI:https://www.wildernesslakecdd.org/calendar/2512084/new-years-
 ice-cream-social
DTSTART:20210102T180000Z
DTEND:20210102T200000Z
END:VEVENT
END:VCALENDAR
