BEGIN:VCALENDAR
VERSION:2.0
PRODID:SchoolNow
CALSCALE:GREGORIAN
BEGIN:VEVENT
UID:87578f5a-3e75-11eb-80fd-0a5438e4f5b7
DTSTAMP:20201215T013326Z
SUMMARY:Frisbee Golf Frenzy
LOCATION:Lodge Front Courtyard
URL;VALUE=URI:https://www.wildernesslakecdd.org/calendar/2512083/frisbee-go
 lf-frenzy
DTSTART;VALUE=DATE:20201230
DTEND;VALUE=DATE:20201231
END:VEVENT
END:VCALENDAR
