BEGIN:VCALENDAR
VERSION:2.0
PRODID:SchoolNow
CALSCALE:GREGORIAN
BEGIN:VEVENT
UID:61ad8048-3e75-11eb-9c11-0a5438e4f5b7
DTSTAMP:20201215T013223Z
SUMMARY:Badminton Bash
LOCATION:Lodge Front Courtyard
URL;VALUE=URI:https://www.wildernesslakecdd.org/calendar/2512082/badminton-
 bash
DTSTART:20201230T180000Z
DTEND:20201230T210000Z
END:VEVENT
END:VCALENDAR
