BEGIN:VCALENDAR
VERSION:2.0
PRODID:SchoolNow
CALSCALE:GREGORIAN
BEGIN:VEVENT
UID:1a2565ec-3e75-11eb-849c-0a5438e4f5b7
DTSTAMP:20201215T013023Z
SUMMARY:Boot Camp
LOCATION:Basketball Court
URL;VALUE=URI:https://www.wildernesslakecdd.org/calendar/2512081/boot-camp
DTSTART:20201230T140000Z
DTEND:20201230T150000Z
END:VEVENT
END:VCALENDAR
