BEGIN:VCALENDAR
VERSION:2.0
PRODID:SchoolNow
CALSCALE:GREGORIAN
BEGIN:VEVENT
UID:9df100ee-3e74-11eb-beb1-0a5438e4f5b7
DTSTAMP:20201215T012753Z
SUMMARY:Boot Camp
LOCATION:Basketball Court
URL;VALUE=URI:https://www.wildernesslakecdd.org/calendar/2512077/boot-camp
DTSTART:20201218T140000Z
DTEND:20201218T150000Z
END:VEVENT
END:VCALENDAR
