BEGIN:VCALENDAR
VERSION:2.0
PRODID:SchoolNow
CALSCALE:GREGORIAN
BEGIN:VEVENT
UID:80c91bdc-3e74-11eb-8b16-0a5438e4f5b7
DTSTAMP:20201215T012606Z
SUMMARY:Boot Camp
LOCATION:Basketball Court
URL;VALUE=URI:https://www.wildernesslakecdd.org/calendar/2512076/boot-camp
DTSTART:20201216T140000Z
DTEND:20201216T150000Z
END:VEVENT
END:VCALENDAR
