BEGIN:VCALENDAR
VERSION:2.0
PRODID:SchoolNow
CALSCALE:GREGORIAN
BEGIN:VEVENT
UID:61acc67c-3e65-11eb-b2ec-0a17666a718b
DTSTAMP:20201214T233751Z
SUMMARY:Walking\, Toning\, and Strength Class
LOCATION:Activities Center
URL;VALUE=URI:https://www.wildernesslakecdd.org/calendar/2511973/walking-to
 ning-and-strength-class
DTSTART:20201230T143000Z
DTEND:20201230T154500Z
END:VEVENT
END:VCALENDAR
