BEGIN:VCALENDAR
VERSION:2.0
PRODID:SchoolNow
CALSCALE:GREGORIAN
BEGIN:VEVENT
UID:3cd1cd20-3e65-11eb-ae95-0a17666a718b
DTSTAMP:20201214T233649Z
SUMMARY:Walking\, Toning\, and Strength Class
LOCATION:Activities Center
URL;VALUE=URI:https://www.wildernesslakecdd.org/calendar/2511972/walking-to
 ning-and-strength-class
DTSTART:20201228T143000Z
DTEND:20201228T154500Z
END:VEVENT
END:VCALENDAR
