BEGIN:VCALENDAR
VERSION:2.0
PRODID:SchoolNow
CALSCALE:GREGORIAN
BEGIN:VEVENT
UID:1ce4645a-3e65-11eb-93f2-0a17666a718b
DTSTAMP:20201214T233556Z
SUMMARY:Walking\, Toning\, and Strength Class
LOCATION:Activities Center
URL;VALUE=URI:https://www.wildernesslakecdd.org/calendar/2511971/walking-to
 ning-and-strength-class
DTSTART:20201223T143000Z
DTEND:20201223T154500Z
END:VEVENT
END:VCALENDAR
