BEGIN:VCALENDAR
VERSION:2.0
PRODID:SchoolNow
CALSCALE:GREGORIAN
BEGIN:VEVENT
UID:fc5197a8-3e64-11eb-9d08-0a17666a718b
DTSTAMP:20201214T233501Z
SUMMARY:Walking\, Toning\, and Strength Class
LOCATION:Activities Center
URL;VALUE=URI:https://www.wildernesslakecdd.org/calendar/2511968/walking-to
 ning-and-strength-class
DTSTART:20201221T143000Z
DTEND:20201221T154500Z
END:VEVENT
END:VCALENDAR
