BEGIN:VCALENDAR
VERSION:2.0
PRODID:SchoolNow
CALSCALE:GREGORIAN
BEGIN:VEVENT
UID:d031956a-3e64-11eb-9bc9-0a17666a718b
DTSTAMP:20201214T233347Z
SUMMARY:Walking\, Toning\, and Strength Class
LOCATION:Activities Center
URL;VALUE=URI:https://www.wildernesslakecdd.org/calendar/2511962/walking-to
 ning-and-strength-class
DTSTART:20201218T143000Z
DTEND:20201218T154500Z
END:VEVENT
END:VCALENDAR
