BEGIN:VCALENDAR
VERSION:2.0
PRODID:SchoolNow
CALSCALE:GREGORIAN
BEGIN:VEVENT
UID:9e279d12-3e64-11eb-b74e-0a17666a718b
DTSTAMP:20201214T233223Z
SUMMARY:Walking\, Toning\, and Strength Class
LOCATION:Activities Center
URL;VALUE=URI:https://www.wildernesslakecdd.org/calendar/2511961/walking-to
 ning-and-strength-class
DTSTART:20201216T143000Z
DTEND:20201216T154500Z
END:VEVENT
END:VCALENDAR
