BEGIN:VCALENDAR
VERSION:2.0
PRODID:SchoolNow
CALSCALE:GREGORIAN
BEGIN:VEVENT
UID:3626e920-3e64-11eb-a688-0a17666a718b
DTSTAMP:20201214T232929Z
SUMMARY:Yoga
LOCATION:Activities Center
URL;VALUE=URI:https://www.wildernesslakecdd.org/calendar/2511942/yoga
DTSTART:20201231T131500Z
DTEND:20201231T144500Z
END:VEVENT
END:VCALENDAR
