BEGIN:VCALENDAR
VERSION:2.0
PRODID:SchoolNow
CALSCALE:GREGORIAN
BEGIN:VEVENT
UID:111b70ec-3e64-11eb-aa7a-0a17666a718b
DTSTAMP:20201214T232826Z
SUMMARY:Yoga
LOCATION:Activities Center
URL;VALUE=URI:https://www.wildernesslakecdd.org/calendar/2511936/yoga
DTSTART:20201229T134500Z
DTEND:20201229T151000Z
END:VEVENT
END:VCALENDAR
