BEGIN:VCALENDAR
VERSION:2.0
PRODID:SchoolNow
CALSCALE:GREGORIAN
BEGIN:VEVENT
UID:e80ca9aa-3e63-11eb-b95c-0a17666a718b
DTSTAMP:20201214T232718Z
SUMMARY:Yoga
LOCATION:Activities Center
URL;VALUE=URI:https://www.wildernesslakecdd.org/calendar/2511908/yoga
DTSTART:20201224T131500Z
DTEND:20201224T144500Z
END:VEVENT
END:VCALENDAR
