BEGIN:VCALENDAR
VERSION:2.0
PRODID:SchoolNow
CALSCALE:GREGORIAN
BEGIN:VEVENT
UID:bdf4fa32-3e63-11eb-b99e-0a17666a718b
DTSTAMP:20201214T232607Z
SUMMARY:Yoga
LOCATION:Activities Center
URL;VALUE=URI:https://www.wildernesslakecdd.org/calendar/2511907/yoga
DTSTART:20201222T134500Z
DTEND:20201222T151000Z
END:VEVENT
END:VCALENDAR
