BEGIN:VCALENDAR
VERSION:2.0
PRODID:SchoolNow
CALSCALE:GREGORIAN
BEGIN:VEVENT
UID:8d088a06-3e63-11eb-8923-0a17666a718b
DTSTAMP:20201214T232445Z
SUMMARY:Yoga
LOCATION:Activities Center
URL;VALUE=URI:https://www.wildernesslakecdd.org/calendar/2511906/yoga
DTSTART:20201217T131500Z
DTEND:20201217T144500Z
END:VEVENT
END:VCALENDAR
