BEGIN:VCALENDAR
VERSION:2.0
PRODID:SchoolNow
CALSCALE:GREGORIAN
BEGIN:VEVENT
UID:67ce8a92-3e63-11eb-8112-0a17666a718b
DTSTAMP:20201214T232342Z
SUMMARY:Yoga
LOCATION:Activities Center
URL;VALUE=URI:https://www.wildernesslakecdd.org/calendar/2511905/yoga
DTSTART:20201215T134500Z
DTEND:20201215T151000Z
END:VEVENT
END:VCALENDAR
