BEGIN:VCALENDAR
VERSION:2.0
PRODID:SchoolNow
CALSCALE:GREGORIAN
BEGIN:VEVENT
UID:cc20a926-3e59-11eb-86e2-0a17666a718b
DTSTAMP:20201214T221703Z
SUMMARY:Lodge Holiday Hours 12 PM - 8 PM
URL;VALUE=URI:https://www.wildernesslakecdd.org/calendar/2511900/lodge-holi
 day-hours
DTSTART:20201226T170000Z
DTEND:20201227T010000Z
END:VEVENT
END:VCALENDAR
