BEGIN:VCALENDAR
VERSION:2.0
PRODID:SchoolNow
CALSCALE:GREGORIAN
BEGIN:VEVENT
UID:2a7c1512-22af-11eb-8622-127a1a7eba81
DTSTAMP:20201109T171529Z
SUMMARY:Boot Camp
LOCATION:Basketball Court
URL;VALUE=URI:https://www.wildernesslakecdd.org/calendar/2493018/boot-camp
DTSTART:20201130T140000Z
DTEND:20201130T150000Z
END:VEVENT
END:VCALENDAR
