BEGIN:VCALENDAR
VERSION:2.0
PRODID:SchoolNow
CALSCALE:GREGORIAN
BEGIN:VEVENT
UID:11233d8e-22af-11eb-8e59-127a1a7eba81
DTSTAMP:20201109T171446Z
SUMMARY:Boot Camp
URL;VALUE=URI:https://www.wildernesslakecdd.org/calendar/2493017/boot-camp
DTSTART:20201127T140000Z
DTEND:20201127T150000Z
END:VEVENT
END:VCALENDAR
