BEGIN:VCALENDAR
VERSION:2.0
PRODID:SchoolNow
CALSCALE:GREGORIAN
BEGIN:VEVENT
UID:f9860a6c-22ae-11eb-bb59-127a1a7eba81
DTSTAMP:20201109T171407Z
SUMMARY:Boot Camp
LOCATION:Basketball Court
URL;VALUE=URI:https://www.wildernesslakecdd.org/calendar/2493016/boot-camp
DTSTART:20201125T140000Z
DTEND:20201125T150000Z
END:VEVENT
END:VCALENDAR
