BEGIN:VCALENDAR
VERSION:2.0
PRODID:SchoolNow
CALSCALE:GREGORIAN
BEGIN:VEVENT
UID:ddcf6756-22ad-11eb-b104-129c177e9b71
DTSTAMP:20201109T170611Z
SUMMARY:Boot Camp
LOCATION:Basketball Court
URL;VALUE=URI:https://www.wildernesslakecdd.org/calendar/2493015/boot-camp
DTSTART:20201123T140000Z
DTEND:20201123T150000Z
END:VEVENT
END:VCALENDAR
