BEGIN:VCALENDAR
VERSION:2.0
PRODID:SchoolNow
CALSCALE:GREGORIAN
BEGIN:VEVENT
UID:243aa2d4-22ac-11eb-b13f-0a61931a511d
DTSTAMP:20201109T165350Z
SUMMARY:Boot Camp
LOCATION:Basketball Court
URL;VALUE=URI:https://www.wildernesslakecdd.org/calendar/2492972/boot-camp
DTSTART:20201116T140000Z
DTEND:20201116T150000Z
END:VEVENT
END:VCALENDAR
