BEGIN:VCALENDAR
VERSION:2.0
PRODID:SchoolNow
CALSCALE:GREGORIAN
BEGIN:VEVENT
UID:eb3c67ec-22ab-11eb-8e1a-129c177e9b71
DTSTAMP:20201109T165214Z
SUMMARY:Boot Camp
LOCATION:Basketball Court
URL;VALUE=URI:https://www.wildernesslakecdd.org/calendar/2492971/boot-camp
DTSTART:20201113T143000Z
DTEND:20201113T153000Z
END:VEVENT
END:VCALENDAR
