BEGIN:VCALENDAR
VERSION:2.0
PRODID:SchoolNow
CALSCALE:GREGORIAN
BEGIN:VEVENT
UID:d1ce9014-22ab-11eb-93a0-129c177e9b71
DTSTAMP:20201109T165239Z
SUMMARY:Boot Camp
LOCATION:Basketball Court
URL;VALUE=URI:https://www.wildernesslakecdd.org/calendar/2492970/boot-camp
DTSTART:20201111T140000Z
DTEND:20201111T150000Z
END:VEVENT
END:VCALENDAR
