BEGIN:VCALENDAR
VERSION:2.0
PRODID:SchoolNow
CALSCALE:GREGORIAN
BEGIN:VEVENT
UID:6069b5f2-22ab-11eb-83ed-129c177e9b71
DTSTAMP:20201109T164821Z
SUMMARY:Walking\, Toning\, and Strength Class
LOCATION:Activities Center
URL;VALUE=URI:https://www.wildernesslakecdd.org/calendar/2492969/walking-to
 ning-and-strength-class
DTSTART:20201130T143000Z
DTEND:20201130T153000Z
END:VEVENT
END:VCALENDAR
