BEGIN:VCALENDAR
VERSION:2.0
PRODID:SchoolNow
CALSCALE:GREGORIAN
BEGIN:VEVENT
UID:3c76a5d8-22ab-11eb-a821-129c177e9b71
DTSTAMP:20201109T164721Z
SUMMARY:Walking\, Toning\, and Strength Class
LOCATION:Activities Center
URL;VALUE=URI:https://www.wildernesslakecdd.org/calendar/2492968/walking-to
 ning-and-strength-class
DTSTART:20201127T143000Z
DTEND:20201127T153000Z
END:VEVENT
END:VCALENDAR
