BEGIN:VCALENDAR
VERSION:2.0
PRODID:SchoolNow
CALSCALE:GREGORIAN
BEGIN:VEVENT
UID:fdf30c8e-22aa-11eb-9fff-129c177e9b71
DTSTAMP:20201109T164536Z
SUMMARY:Walking\, Toning\, and Strength Class
LOCATION:Activities Center
URL;VALUE=URI:https://www.wildernesslakecdd.org/calendar/2492966/walking-to
 ning-and-strength-class
DTSTART:20201123T143000Z
DTEND:20201123T153000Z
END:VEVENT
END:VCALENDAR
