BEGIN:VCALENDAR
VERSION:2.0
PRODID:SchoolNow
CALSCALE:GREGORIAN
BEGIN:VEVENT
UID:dd1028d0-22aa-11eb-8f26-129c177e9b71
DTSTAMP:20201109T164441Z
SUMMARY:Walking\, Toning\, and Strength Class
LOCATION:Activities Center
URL;VALUE=URI:https://www.wildernesslakecdd.org/calendar/2492964/walking-to
 ning-and-strength-class
DTSTART:20201118T143000Z
DTEND:20201118T153000Z
END:VEVENT
END:VCALENDAR
