BEGIN:VCALENDAR
VERSION:2.0
PRODID:SchoolNow
CALSCALE:GREGORIAN
BEGIN:VEVENT
UID:8cea1050-22aa-11eb-9d9a-129c177e9b71
DTSTAMP:20201109T164226Z
SUMMARY:Walking\, Toning\, and Strength Class
LOCATION:Activities Center
URL;VALUE=URI:https://www.wildernesslakecdd.org/calendar/2492961/walking-to
 ning-and-strength-class
DTSTART:20201116T143000Z
DTEND:20201116T153000Z
END:VEVENT
END:VCALENDAR
