BEGIN:VCALENDAR
VERSION:2.0
PRODID:SchoolNow
CALSCALE:GREGORIAN
BEGIN:VEVENT
UID:6922987c-22aa-11eb-9e84-129c177e9b71
DTSTAMP:20201109T164336Z
SUMMARY:Walking\, Toning\, and Strength Class
LOCATION:Activities Center
URL;VALUE=URI:https://www.wildernesslakecdd.org/calendar/2492960/walking-to
 ning-and-strength-class
DTSTART:20201113T143000Z
DTEND:20201113T153000Z
END:VEVENT
END:VCALENDAR
