BEGIN:VCALENDAR
VERSION:2.0
PRODID:SchoolNow
CALSCALE:GREGORIAN
BEGIN:VEVENT
UID:4c8ed342-22aa-11eb-b3d3-129c177e9b71
DTSTAMP:20201109T164143Z
SUMMARY:Walking\, Toning\, and Strength Class
LOCATION:Activities Center
URL;VALUE=URI:https://www.wildernesslakecdd.org/calendar/2492959/walking-to
 ning-and-strength-class
DTSTART:20201111T143000Z
DTEND:20201111T154500Z
END:VEVENT
END:VCALENDAR
