BEGIN:VCALENDAR
VERSION:2.0
PRODID:SchoolNow
CALSCALE:GREGORIAN
BEGIN:VEVENT
UID:050c7d12-22aa-11eb-ab1c-129c177e9b71
DTSTAMP:20201109T163838Z
SUMMARY:Water Aerobics
LOCATION:Lap Pool
URL;VALUE=URI:https://www.wildernesslakecdd.org/calendar/2492958/water-aero
 bics
DTSTART:20201130T143000Z
DTEND:20201130T153000Z
END:VEVENT
END:VCALENDAR
