BEGIN:VCALENDAR
VERSION:2.0
PRODID:SchoolNow
CALSCALE:GREGORIAN
BEGIN:VEVENT
UID:eea8df20-22a9-11eb-8acf-129c177e9b71
DTSTAMP:20201109T163801Z
SUMMARY:Water Aerobics
LOCATION:Lap Pool
URL;VALUE=URI:https://www.wildernesslakecdd.org/calendar/2492957/water-aero
 bics
DTSTART:20201127T143000Z
DTEND:20201127T153000Z
END:VEVENT
END:VCALENDAR
