BEGIN:VCALENDAR
VERSION:2.0
PRODID:SchoolNow
CALSCALE:GREGORIAN
BEGIN:VEVENT
UID:ca97e52c-22a9-11eb-9b23-129c177e9b71
DTSTAMP:20201109T163700Z
SUMMARY:Water Aerobics
LOCATION:Lap Pool
URL;VALUE=URI:https://www.wildernesslakecdd.org/calendar/2492956/water-aero
 bics
DTSTART:20201125T143000Z
DTEND:20201125T153000Z
END:VEVENT
END:VCALENDAR
