BEGIN:VCALENDAR
VERSION:2.0
PRODID:SchoolNow
CALSCALE:GREGORIAN
BEGIN:VEVENT
UID:a7c55f84-22a9-11eb-b5aa-129c177e9b71
DTSTAMP:20201109T163602Z
SUMMARY:Water Aerobics
LOCATION:Lap Pool
URL;VALUE=URI:https://www.wildernesslakecdd.org/calendar/2492954/water-aero
 bics
DTSTART:20201124T143000Z
DTEND:20201124T153000Z
END:VEVENT
END:VCALENDAR
