BEGIN:VCALENDAR
VERSION:2.0
PRODID:SchoolNow
CALSCALE:GREGORIAN
BEGIN:VEVENT
UID:8ec85dce-22a9-11eb-adec-129c177e9b71
DTSTAMP:20201109T163520Z
SUMMARY:Water Aerobics
LOCATION:Lap Pool
URL;VALUE=URI:https://www.wildernesslakecdd.org/calendar/2492953/water-aero
 bics
DTSTART:20201123T143000Z
DTEND:20201123T153000Z
END:VEVENT
END:VCALENDAR
