BEGIN:VCALENDAR
VERSION:2.0
PRODID:SchoolNow
CALSCALE:GREGORIAN
BEGIN:VEVENT
UID:768382d4-22a9-11eb-a5dc-129c177e9b71
DTSTAMP:20201109T163439Z
SUMMARY:Water Aerobics
LOCATION:Lap Pool
URL;VALUE=URI:https://www.wildernesslakecdd.org/calendar/2492951/water-aero
 bics
DTSTART:20201120T143000Z
DTEND:20201120T153000Z
END:VEVENT
END:VCALENDAR
